BEGIN:VCALENDAR
VERSION:2.0
PRODID:-// - ECPv6.3.2//NONSGML v1.0//EN
CALSCALE:GREGORIAN
METHOD:PUBLISH
X-ORIGINAL-URL:http://www.libreriasalvemini.it
X-WR-CALDESC:Eventi per 
REFRESH-INTERVAL;VALUE=DURATION:PT1H
X-Robots-Tag:noindex
X-PUBLISHED-TTL:PT1H
BEGIN:VTIMEZONE
TZID:Europe/Rome
BEGIN:DAYLIGHT
TZOFFSETFROM:+0100
TZOFFSETTO:+0200
TZNAME:CEST
DTSTART:20190331T010000
END:DAYLIGHT
BEGIN:STANDARD
TZOFFSETFROM:+0200
TZOFFSETTO:+0100
TZNAME:CET
DTSTART:20191027T010000
END:STANDARD
END:VTIMEZONE
BEGIN:VEVENT
DTSTART;TZID=Europe/Rome:20191031T173000
DTEND;TZID=Europe/Rome:20191031T200000
DTSTAMP:20260421T140747
CREATED:20191012T165611Z
LAST-MODIFIED:20191029T121831Z
UID:2166-1572543000-1572552000@www.libreriasalvemini.it
SUMMARY:Halloween a Firenze: Festa Itinerante delle Creature della Notte
DESCRIPTION:EVENTO FANTASMAGORICO GRATUITO\, APERTO AI FIGURANTI IN COSTUME \n  \nLe Creature della Notte si danno appuntamento alla Libreria Salvemini alle 17.00 alle 20.00 del 31 Ottobre: qui\, nell’Antro delle Streghe appositamente allestito\, potranno gustare la pozione corroborante “Sangue di Drago”\, creata dalla maga Arbuska\, e gli “Occhi di Mummia” provenienti dalle tombe egizie\, capaci di stimolare la chiaroveggenza… \nDopo la festicciola chi vorrà potrà andare alla conquista della città: strade e piazze\, pub e ritrovi vari\, per incontrare i propri simili e far festa tutti insieme. Si prevedono dolcetti e scherzetti\, nonché foto e video nei punti più suggestivi del centro di Firenze. \nBuon Halloween a tutti!
URL:http://www.libreriasalvemini.it/eventi/halloween-a-firenze-festa-itinerante-delle-creature-della-notte/
LOCATION:Libreria Salvemini\, Piazza Salvemini 18\, Firenze\, Italia
CATEGORIES:Esoterismo,Fantasy,Fotografia
ATTACH;FMTTYPE=image/jpeg:http://www.libreriasalvemini.it/wp-content/uploads/2019/10/31ottobreFestaHalloween-2019-scaled.jpg
END:VEVENT
END:VCALENDAR